BEGIN:VCALENDAR
VERSION:2.0
CALSCALE:GREGORIAN
PRODID:adamgibbons/ics
METHOD:PUBLISH
X-PUBLISHED-TTL:PT1H
BEGIN:VEVENT
UID:12316@do.basspistol.org
SUMMARY:Pouzza Fest 2026: Taxi Girls
DTSTAMP:20260421T053958Z
DTSTART:20260517T201000Z
DTEND:20260518T084000Z
URL:https://do.basspistol.org/event/pouzza-fest-2026-taxi-girls
LOCATION:Esplanade tranquille du Quartier des spectacles - 1403 Clark
STATUS:CONFIRMED
CATEGORIES:Taxi Girls,pouzza fest
END:VEVENT
END:VCALENDAR
